BEGIN:VCALENDAR
VERSION:2.0
METHOD:PUBLISH
PRODID:-//Telerik Inc.//Sitefinity CMS 13.3//EN
BEGIN:VTIMEZONE
TZID:Eastern Standard Time
BEGIN:STANDARD
DTSTART:20251102T020000
RRULE:FREQ=YEARLY;BYDAY=1SU;BYHOUR=2;BYMINUTE=0;BYMONTH=11
TZNAME:Eastern Standard Time
TZOFFSETFROM:-0400
TZOFFSETTO:-0500
END:STANDARD
BEGIN:DAYLIGHT
DTSTART:20250301T020000
RRULE:FREQ=YEARLY;BYDAY=2SU;BYHOUR=2;BYMINUTE=0;BYMONTH=3
TZNAME:Eastern Daylight Time
TZOFFSETFROM:-0500
TZOFFSETTO:-0400
END:DAYLIGHT
END:VTIMEZONE
BEGIN:VEVENT
DESCRIPTION:Live Sessions on July 17\, 24\, and 31 from 12:00 - 1:00 PM ET\
 n\nThis course introduces physicians to data management and how Artificial
  Intelligence (AI) can leverage medical data for better decision-making\, 
 patient care\, and operational efficiency.\nThe ASTS AI Bootcamps are divi
 ded into three units. Each unit includes prerecorded presentations that wi
 ll be posted on the ASTS Academic Universe. Attendees will have a week to 
 view each unit's presentations at their own pace\, followed by a 60-minute
  live moderated Q&amp\;A session to answer attendee questions and discuss 
 important topics from the course presentations.\n\nLive Q&amp\;A sessions 
 will take place on Fridays\, July 17\, 24\, and 31 from 12:00 - 1:00 PM ET
 \n\nWho should attend: Physicians or transplant center administrators with
  limited AI experience.\n\nRegistration information coming soon!
DTEND:20260731T170000Z
DTSTAMP:20260422T232309Z
DTSTART:20260717T160000Z
LOCATION:
SEQUENCE:0
SUMMARY:AI Virtual Bootcamps: Data Management & AI for Physicians
UID:RFCALITEM639124825893421003
X-ALT-DESC;FMTTYPE=text/html:<p><strong>Live Sessions on July 17\, 24\, and
  31 from 12:00 - 1:00 PM ET\n</strong></p>\n<p>This course introduces phys
 icians to data management and how Artificial Intelligence (AI) can leverag
 e medical data for better decision-making\, patient care\, and operational
  efficiency.</p>\n<p>The ASTS AI Bootcamps are divided into three units. E
 ach unit includes prerecorded presentations that will be posted on the AST
 S Academic Universe. Attendees will have a week to view each unit's presen
 tations at their own pace\, followed by a 60-minute live moderated Q&amp\;
 A session to answer attendee questions and discuss important topics from t
 he course presentations.\n</p>\n<p><strong>Live Q&amp\;A sessions will tak
 e place on Fridays\, July 17\, 24\, and 31 from 12:00 - 1:00 PM ET\n</stro
 ng></p>\n<p><strong>Who should attend: </strong>Physicians or transplant c
 enter administrators with limited AI experience.\n</p>\n<p style="text-ali
 gn: center\;"><strong><a href="https://www.asts.org/events-meetings/ai-vir
 tual-bootcamps" target="_blank">Registration information coming soon!</a><
 /strong></p>
END:VEVENT
END:VCALENDAR
