BEGIN:VCALENDAR
VERSION:2.0
METHOD:PUBLISH
PRODID:-//Telerik Inc.//Sitefinity CMS 13.3//EN
BEGIN:VTIMEZONE
TZID:Eastern Standard Time
BEGIN:STANDARD
DTSTART:20251102T020000
RRULE:FREQ=YEARLY;BYDAY=1SU;BYHOUR=2;BYMINUTE=0;BYMONTH=11
TZNAME:Eastern Standard Time
TZOFFSETFROM:-0400
TZOFFSETTO:-0500
END:STANDARD
BEGIN:DAYLIGHT
DTSTART:20250301T020000
RRULE:FREQ=YEARLY;BYDAY=2SU;BYHOUR=2;BYMINUTE=0;BYMONTH=3
TZNAME:Eastern Daylight Time
TZOFFSETFROM:-0500
TZOFFSETTO:-0400
END:DAYLIGHT
END:VTIMEZONE
BEGIN:VEVENT
DESCRIPTION:The OPTN is pleased to announce two virtual National Town Hall 
 meetings for members of the community and the public. Sessions will be hel
 d April 28 at 4:00 p.m. ET and May 13 at 3:00 p.m. ET. These town halls wi
 ll provide updates on the current state of the OPTN\, as well as ongoing m
 odernization efforts to strengthen the system and improve patient outcomes
 .\n\nParticipants will have the opportunity to submit questions in advance
 \, and each session will include a moderated questions and answers period 
 to encourage open dialogue and community engagement.\n\nPlease note that t
 hese National Town Hall meetings will replace this year&rsquo\;s spring/su
 mmer regional meetings\, offering a more accessible\, nationwide forum for
  information sharing and discussion. Both sessions will cover the same con
 tent\, allowing participants to choose the date and time that works best f
 or their schedule.\n\nWe encourage all stakeholders to attend and learn mo
 re about our efforts to shape the future of organ procurement and transpla
 ntation.\n\nEvent Details\n\n\n    Tuesday\, April 28\, 2026\, from 4:00 &
 ndash\; 5:30 p.m. ET\n    \n\n\n    Wednesday\, May 13\, 2026\, from 3:00 
 &ndash\; 4:30 p.m. ET\n\nRegister Now
DTEND:20260513T203000Z
DTSTAMP:20260422T135200Z
DTSTART:20260513T190000Z
LOCATION:
SEQUENCE:0
SUMMARY:OPTN National Town Hall Meeting
UID:RFCALITEM639124483203938228
X-ALT-DESC;FMTTYPE=text/html:<p>The OPTN is pleased to announce two virtual
  National Town Hall meetings for members of the community and the public. 
 Sessions will be held April 28 at 4:00 p.m. ET and May 13 at 3:00 p.m. ET.
  These town halls will provide updates on the current state of the OPTN\, 
 as well as ongoing modernization efforts to strengthen the system and impr
 ove patient outcomes.\n</p>\n<p>Participants will have the opportunity to 
 submit questions in advance\, and each session will include a moderated qu
 estions and answers period to encourage open dialogue and community engage
 ment.</p>\n<p>\nPlease note that these National Town Hall meetings will re
 place this year&rsquo\;s spring/summer regional meetings\, offering a more
  accessible\, nationwide forum for information sharing and discussion. Bot
 h sessions will cover the same content\, allowing participants to choose t
 he date and time that works best for their schedule.\n</p>\n<p>We encourag
 e all stakeholders to attend and learn more about our efforts to shape the
  future of organ procurement and transplantation.\n</p>\n<p><strong>Event 
 Details</strong>\n</p>\n<ul>\n    <li>Tuesday\, April 28\, 2026\, from 4:0
 0 &ndash\; 5:30 p.m. ET\n    </li>\n</ul>\n<ul>\n    <li>Wednesday\, May 1
 3\, 2026\, from 3:00 &ndash\; 4:30 p.m. ET</li>\n</ul>\n<p style="text-ali
 gn: center\;"><a href="https://www.zoomgov.com/webinar/register/WN_9x98x4E
 wSFmq7NKudia0fg#/registration"><span style="font-size: 18px\;"><strong>Reg
 ister Now</strong></span></a></p>
END:VEVENT
END:VCALENDAR
