BEGIN:VCALENDAR
VERSION:2.0
METHOD:PUBLISH
PRODID:-//Telerik Inc.//Sitefinity CMS 13.3//EN
BEGIN:VTIMEZONE
TZID:Eastern Standard Time
BEGIN:STANDARD
DTSTART:20251102T020000
RRULE:FREQ=YEARLY;BYDAY=1SU;BYHOUR=2;BYMINUTE=0;BYMONTH=11
TZNAME:Eastern Standard Time
TZOFFSETFROM:-0400
TZOFFSETTO:-0500
END:STANDARD
BEGIN:DAYLIGHT
DTSTART:20250301T020000
RRULE:FREQ=YEARLY;BYDAY=2SU;BYHOUR=2;BYMINUTE=0;BYMONTH=3
TZNAME:Eastern Daylight Time
TZOFFSETFROM:-0500
TZOFFSETTO:-0400
END:DAYLIGHT
END:VTIMEZONE
BEGIN:VEVENT
DESCRIPTION:Wednesday\, May 20&nbsp\;| 3:00 pm - 4:00 pm ETSpeaker:&nbsp\;A
 deel Khan\, MD | Washington University in St. LouisModerators:Dev Desai\, 
 MD | Phoenix Children's HospitalSaulat Sheikh\, MD | University of Alabama
  at Birmingham&nbsp\;Description:&nbsp\;In this webinar\, Dr. Adeel Khan w
 ill focus on the implantation phase of pediatric liver transplant\, addres
 sing the operative nuances and technical challenges of the procedure in in
 fants. This session will be facilitated through a video-based case present
 ation of a living donor liver transplant using a segment 2/3 graft perform
 ed in a 1-year-old girl with biliary atresia.Drs. Saulat Sheikh and Dev De
 sai\, who will be joining as panelists\, will share their surgical experti
 se and experiences\, highlighting key technical steps and common challenge
 s within their own practice. Throughout the webinar\, attendees will have 
 the opportunity to ask questions and participate in this live session.&nbs
 p\;&nbsp\;Do not miss this opportunity to engage with experts in the field
  and enhance your practice. We look forward to your participation!REGISTER
  TODAY&nbsp\;
DTEND:20260520T200000Z
DTSTAMP:20260422T232945Z
DTSTART:20260520T190000Z
LOCATION:
SEQUENCE:0
SUMMARY:Surgical Skills Webinar Series: Pediatric Liver Transplant - Implan
 tation
UID:RFCALITEM639124829853552991
X-ALT-DESC;FMTTYPE=text/html:<p><strong>Wednesday\, May 20</strong>&nbsp\;<
 strong>| 3:00 pm - 4:00 pm ET</strong></p><p><strong>Speaker:&nbsp\;</stro
 ng>Adeel Khan\, MD | Washington University in St. Louis</p><p><strong>Mode
 rators:</strong></p><div>Dev Desai\, MD | Phoenix Children's Hospital</div
 ><div>Saulat Sheikh\, MD | University of Alabama at Birmingham</div><p>&nb
 sp\;</p><p><strong>Description:</strong></p><p data-olk-copy-source="Messa
 geBody">&nbsp\;</p><div>In this webinar\, Dr. Adeel Khan will focus on the
  implantation phase of pediatric liver transplant\, addressing the operati
 ve nuances and technical challenges of the procedure in infants. This sess
 ion will be facilitated through a video-based case presentation of a livin
 g donor liver transplant using a segment 2/3 graft performed in a 1-year-o
 ld girl with biliary atresia.</div><div><br /></div><div>Drs. Saulat Sheik
 h and Dev Desai\, who will be joining as panelists\, will share their surg
 ical expertise and experiences\, highlighting key technical steps and comm
 on challenges within their own practice. Throughout the webinar\, attendee
 s will have the opportunity to ask questions and participate in this live 
 session.&nbsp\;</div><p>&nbsp\;</p><p>Do not miss this opportunity to enga
 ge with experts in the field and enhance your practice. We look forward to
  your participation!</p><h3><a href="https://members.asts.org/Events/event
 -details/?id=9438b8b1-843d-f111-9a90-7c1e52974a34" target="_blank">REGISTE
 R TODAY</a></h3><p>&nbsp\;</p>
END:VEVENT
END:VCALENDAR
